BEGIN:VCALENDAR
VERSION:2.0
PRODID:-// eRoom plugin //NONSGML v1.0//EN
CALSCALE:GREGORIAN
BEGIN:VEVENT
UID:eRoom-1776880426
SUMMARY:Margherita
LOCATION:Zoom
DESCRIPTION:Margherita is inviting you to a scheduled Zoom meeting.\n\nJoin
  Zoom Meeting\nhttps://us02web.zoom.us/j/88220173120?pwd=ch6Czt4HkaugsOS3C
 1rqUVbSStd5gN.1\n\nMeeting ID: 88220173120\nPasscode: 617973\n
URL;VALUE=URI:https://us02web.zoom.us/j/88220173120?pwd=ch6Czt4HkaugsOS3C1rqUVbSStd5gN.1
DTSTART:20250417T070000Z
DTEND:20250417T080000Z
DTSTAMP:20260422T175346Z
BEGIN:VALARM
ACTION:DISPLAY
DESCRIPTION:Reminder
TRIGGER;RELATED=START:-PT15M
END:VALARM
END:VEVENT
END:VCALENDAR