BEGIN:VCALENDAR
VERSION:2.0
PRODID:-// eRoom plugin //NONSGML v1.0//EN
CALSCALE:GREGORIAN
BEGIN:VEVENT
UID:eRoom-1776877122
SUMMARY:Margherita
LOCATION:Zoom
DESCRIPTION:Margherita is inviting you to a scheduled Zoom meeting.\n\nJoin
  Zoom Meeting\nhttps://us02web.zoom.us/j/82001111482?pwd=ObpJRCKNCj7UxORne
 6wN1RXcmQnbzW.1\n\nMeeting ID: 82001111482\nPasscode: 874607\n
URL;VALUE=URI:https://us02web.zoom.us/j/82001111482?pwd=ObpJRCKNCj7UxORne6wN1RXcmQnbzW.1
DTSTART:20241120T150000Z
DTEND:20241120T160000Z
DTSTAMP:20260422T165842Z
BEGIN:VALARM
ACTION:DISPLAY
DESCRIPTION:Reminder
TRIGGER;RELATED=START:-PT15M
END:VALARM
END:VEVENT
END:VCALENDAR